BEGIN:VCALENDAR
VERSION:2.0
PRODID: -//Q4 Inc.//EN
METHOD:PUBLISH
BEGIN:VTIMEZONE
TZID:America/New_York
X-LIC-LOCATION:America/New_York
BEGIN:DAYLIGHT
TZOFFSETFROM:-0500
TZOFFSETTO:-0400
TZNAME:EDT
DTSTART:19700308T020000
RRULE:FREQ=YEARLY;BYMONTH=3;BYDAY=2SU
END:DAYLIGHT
BEGIN:STANDARD
TZOFFSETFROM:-0400
TZOFFSETTO:-0500
TZNAME:EST
DTSTART:19701101T020000
RRULE:FREQ=YEARLY;BYMONTH=11;BYDAY=1SU
END:STANDARD
END:VTIMEZONE
BEGIN:VEVENT
ORGANIZER:MAILTO:events@investor.csx.com
DTSTART;TZID="America/New_York":20190306T100300
DTEND;TZID="America/New_York":20190306T100300
LOCATION:
UID:d1d2c4e7-2dd4-462e-8164-45bb0c7fb3d9
DTSTAMP:20260424T165740
SUMMARY:CSX Corporation at the J.P. Morgan Aviation, Transportation and Industrials Conference
DESCRIPTION: View More Information: https://investors.csx.com/news-and-events/events-and-presentations/event-details/2019/CSX-Corporation-at-the-JP-Morgan-Aviation-Transportation-and-Industrials-Conference/default.aspx
URL;VALUE=URI:https://investors.csx.com/news-and-events/events-and-presentations/event-details/2019/CSX-Corporation-at-the-JP-Morgan-Aviation-Transportation-and-Industrials-Conference/default.aspx
PRIORITY:5
CLASS:PUBLIC
END:VEVENT
END:VCALENDAR
