BEGIN:VCALENDAR
VERSION:2.0
PRODID: -//Q4 Inc.//EN
METHOD:PUBLISH
BEGIN:VTIMEZONE
TZID:America/New_York
X-LIC-LOCATION:America/New_York
BEGIN:DAYLIGHT
TZOFFSETFROM:-0500
TZOFFSETTO:-0400
TZNAME:EDT
DTSTART:19700308T020000
RRULE:FREQ=YEARLY;BYMONTH=3;BYDAY=2SU
END:DAYLIGHT
BEGIN:STANDARD
TZOFFSETFROM:-0400
TZOFFSETTO:-0500
TZNAME:EST
DTSTART:19701101T020000
RRULE:FREQ=YEARLY;BYMONTH=11;BYDAY=1SU
END:STANDARD
END:VTIMEZONE
BEGIN:VEVENT
ORGANIZER:MAILTO:events@investor.csx.com
DTSTART;TZID="America/New_York":20170906T080900
DTEND;TZID="America/New_York":20170906T080900
LOCATION:
UID:33a6e831-e67d-4a37-876b-00264ae9a722
DTSTAMP:20260424T170738
SUMMARY:CSX Corporation at the Cowen and Company’s 10th Annual Global Transportation Conference
DESCRIPTION: View More Information: https://investors.csx.com/news-and-events/events-and-presentations/event-details/2017/CSX-Corporation-at-the-Cowen-and-Companys-10th-Annual-Global-Transportation-Conference/default.aspx
URL;VALUE=URI:https://investors.csx.com/news-and-events/events-and-presentations/event-details/2017/CSX-Corporation-at-the-Cowen-and-Companys-10th-Annual-Global-Transportation-Conference/default.aspx
PRIORITY:5
CLASS:PUBLIC
END:VEVENT
END:VCALENDAR
